BEGIN:VCALENDAR
VERSION:2.0
PRODID:-//Tshwane Tennis Federation - ECPv6.15.19//NONSGML v1.0//EN
CALSCALE:GREGORIAN
METHOD:PUBLISH
X-WR-CALNAME:Tshwane Tennis Federation
X-ORIGINAL-URL:https://tshwanetennis.co.za
X-WR-CALDESC:Events for Tshwane Tennis Federation
REFRESH-INTERVAL;VALUE=DURATION:PT1H
X-Robots-Tag:noindex
X-PUBLISHED-TTL:PT1H
BEGIN:VTIMEZONE
TZID:Africa/Johannesburg
BEGIN:STANDARD
TZOFFSETFROM:+0200
TZOFFSETTO:+0200
TZNAME:SAST
DTSTART:20250101T000000
END:STANDARD
END:VTIMEZONE
BEGIN:VEVENT
DTSTART;TZID=Africa/Johannesburg:20260423T130000
DTEND;TZID=Africa/Johannesburg:20260423T130000
DTSTAMP:20260423T024429
CREATED:20260330T101756Z
LAST-MODIFIED:20260330T101756Z
UID:4095-1776949200-1776949200@tshwanetennis.co.za
SUMMARY:High School Junior Boys
DESCRIPTION:
URL:https://tshwanetennis.co.za/event/high-school-junior-boys-3/
END:VEVENT
END:VCALENDAR